BEGIN:VCALENDAR
VERSION:2.0
PRODID:-//Udruga pčelara  &quot;Matica“ - ECPv6.15.17//NONSGML v1.0//EN
CALSCALE:GREGORIAN
METHOD:PUBLISH
X-WR-CALNAME:Udruga pčelara  &quot;Matica“
X-ORIGINAL-URL:https://upmatica.hr
X-WR-CALDESC:Events for Udruga pčelara  &quot;Matica“
REFRESH-INTERVAL;VALUE=DURATION:PT1H
X-Robots-Tag:noindex
X-PUBLISHED-TTL:PT1H
BEGIN:VTIMEZONE
TZID:Europe/Zagreb
BEGIN:DAYLIGHT
TZOFFSETFROM:+0100
TZOFFSETTO:+0200
TZNAME:CEST
DTSTART:20230326T010000
END:DAYLIGHT
BEGIN:STANDARD
TZOFFSETFROM:+0200
TZOFFSETTO:+0100
TZNAME:CET
DTSTART:20231029T010000
END:STANDARD
BEGIN:DAYLIGHT
TZOFFSETFROM:+0100
TZOFFSETTO:+0200
TZNAME:CEST
DTSTART:20240331T010000
END:DAYLIGHT
BEGIN:STANDARD
TZOFFSETFROM:+0200
TZOFFSETTO:+0100
TZNAME:CET
DTSTART:20241027T010000
END:STANDARD
BEGIN:DAYLIGHT
TZOFFSETFROM:+0100
TZOFFSETTO:+0200
TZNAME:CEST
DTSTART:20250330T010000
END:DAYLIGHT
BEGIN:STANDARD
TZOFFSETFROM:+0200
TZOFFSETTO:+0100
TZNAME:CET
DTSTART:20251026T010000
END:STANDARD
END:VTIMEZONE
BEGIN:VEVENT
DTSTART;TZID=Europe/Zagreb:20240507T143000
DTEND;TZID=Europe/Zagreb:20240507T150000
DTSTAMP:20260423T143131
CREATED:20240507T072319Z
LAST-MODIFIED:20240507T072319Z
UID:1717-1715092200-1715094000@upmatica.hr
SUMMARY:Pogreb pčelara Stjepana Vizeca
DESCRIPTION:Poštovani pčelari\numro je naš dugogodišnji pčelar i prijatelj Stjepan Vizec \nPogreb će biti na groblju u Nespešu u utorak\, 7.svibnja 2024. u 14.30 h.\nPočivao u miru.
URL:https://upmatica.hr/event/pogreb-pcelara-stjepana-vizeca/
ORGANIZER;CN="UP Matica":MAILTO:matica.zelina@gmail.com
END:VEVENT
END:VCALENDAR