BEGIN:VCALENDAR
VERSION:2.0
PRODID:-//Udruga pčelara  &quot;Matica“ - ECPv6.15.17//NONSGML v1.0//EN
CALSCALE:GREGORIAN
METHOD:PUBLISH
X-WR-CALNAME:Udruga pčelara  &quot;Matica“
X-ORIGINAL-URL:https://upmatica.hr
X-WR-CALDESC:Events for Udruga pčelara  &quot;Matica“
REFRESH-INTERVAL;VALUE=DURATION:PT1H
X-Robots-Tag:noindex
X-PUBLISHED-TTL:PT1H
BEGIN:VTIMEZONE
TZID:Europe/Zagreb
BEGIN:DAYLIGHT
TZOFFSETFROM:+0100
TZOFFSETTO:+0200
TZNAME:CEST
DTSTART:20230326T010000
END:DAYLIGHT
BEGIN:STANDARD
TZOFFSETFROM:+0200
TZOFFSETTO:+0100
TZNAME:CET
DTSTART:20231029T010000
END:STANDARD
BEGIN:DAYLIGHT
TZOFFSETFROM:+0100
TZOFFSETTO:+0200
TZNAME:CEST
DTSTART:20240331T010000
END:DAYLIGHT
BEGIN:STANDARD
TZOFFSETFROM:+0200
TZOFFSETTO:+0100
TZNAME:CET
DTSTART:20241027T010000
END:STANDARD
BEGIN:DAYLIGHT
TZOFFSETFROM:+0100
TZOFFSETTO:+0200
TZNAME:CEST
DTSTART:20250330T010000
END:DAYLIGHT
BEGIN:STANDARD
TZOFFSETFROM:+0200
TZOFFSETTO:+0100
TZNAME:CET
DTSTART:20251026T010000
END:STANDARD
END:VTIMEZONE
BEGIN:VEVENT
DTSTART;TZID=Europe/Zagreb:20241106T100000
DTEND;TZID=Europe/Zagreb:20241106T140000
DTSTAMP:20260421T113639
CREATED:20241104T092926Z
LAST-MODIFIED:20241104T092926Z
UID:1851-1730887200-1730901600@upmatica.hr
SUMMARY:Simpozij Suvremeni pristupi u prevenciji i kontroli bolesti pčela
DESCRIPTION:Pozivnica na simpozij Suvremeni pristupi u prevenciji i kontroli bolesti pčela posvećen 120. obljetnici rođenja akademika Ive Tomašeca i 70. obljetnici osnivanja Hrvatskog pčelarskog saveza \nu srijedu 6. studenoga 2024. s početkom u 10 sati u Knjižnici Hrvatske akademije znanosti i umjetnosti. \nTrg Josipa Jurja Strossmayera 14\, Zagreb. \nPOZIV – Bolesti pcela-HAZU final
URL:https://upmatica.hr/event/simpozij-suvremeni-pristupi-u-prevenciji-i-kontroli-bolesti-pcela/
LOCATION:Knjižnica Hrvatske akademije znanosti i umjetnosti\, Trg Josipa Jurja Strossmayera 14\, Zagreb\, 10000\, Croatia (Local Name: Hrvatska)
END:VEVENT
END:VCALENDAR