BEGIN:VCALENDAR
VERSION:2.0
PRODID:-//Udruga pčelara  &quot;Matica“ - ECPv6.15.17//NONSGML v1.0//EN
CALSCALE:GREGORIAN
METHOD:PUBLISH
X-ORIGINAL-URL:https://upmatica.hr
X-WR-CALDESC:Events for Udruga pčelara  &quot;Matica“
REFRESH-INTERVAL;VALUE=DURATION:PT1H
X-Robots-Tag:noindex
X-PUBLISHED-TTL:PT1H
BEGIN:VTIMEZONE
TZID:Europe/Zagreb
BEGIN:DAYLIGHT
TZOFFSETFROM:+0100
TZOFFSETTO:+0200
TZNAME:CEST
DTSTART:20230326T010000
END:DAYLIGHT
BEGIN:STANDARD
TZOFFSETFROM:+0200
TZOFFSETTO:+0100
TZNAME:CET
DTSTART:20231029T010000
END:STANDARD
BEGIN:DAYLIGHT
TZOFFSETFROM:+0100
TZOFFSETTO:+0200
TZNAME:CEST
DTSTART:20240331T010000
END:DAYLIGHT
BEGIN:STANDARD
TZOFFSETFROM:+0200
TZOFFSETTO:+0100
TZNAME:CET
DTSTART:20241027T010000
END:STANDARD
BEGIN:DAYLIGHT
TZOFFSETFROM:+0100
TZOFFSETTO:+0200
TZNAME:CEST
DTSTART:20250330T010000
END:DAYLIGHT
BEGIN:STANDARD
TZOFFSETFROM:+0200
TZOFFSETTO:+0100
TZNAME:CET
DTSTART:20251026T010000
END:STANDARD
END:VTIMEZONE
BEGIN:VEVENT
DTSTART;TZID=Europe/Zagreb:20240316T090000
DTEND;TZID=Europe/Zagreb:20240317T180000
DTSTAMP:20260423T185837
CREATED:20240130T145038Z
LAST-MODIFIED:20240130T145038Z
UID:1548-1710579600-1710698400@upmatica.hr
SUMMARY:Pčelarski sajam "ApiSlovenija" Celje
DESCRIPTION:Sajam „ApiSlovenija“ posvećen pčelama i pčelarstvu održavat će se 16. i 17. ožujka 2024. godine na Celjskom sajmu. \nCijene ulaznica: \n\nOdrasli:  9 €\nUmirovljenici:  7 €\nUčenici i studenti:  7 €\nObiteljska ulaznica (1-2 odrasle osobe i djeca do 15 godina):  18 €\nPredškolska djela: Ulaz slobodan\n\nParkiranje automobila i autobusa se ne naplaćuje. \n  \nNa istom sajamskom prostoru i vremenu održavat će se i druge sajamske priredbe: \nDnevi športnega strelstva \nDnevi lovstva \nAltermed & Flora \nFestival kave Slovenija \nViše informacija dostupno je na:\nCeljski sejem d.d. (ce-sejem.si)\nDečkova cesta 1\n3000 Celje\, Slovenija\nTel: +386 (0)3 54 33 000\nE-pošta: info@ce-sejem.si
URL:https://upmatica.hr/event/pcelarski-sajam-apislovenija-celje/
LOCATION:Celjski sejem\, Celje\, Slovenija\, Dečkova cesta 1\, Celje\, 3000\, Slovenia
END:VEVENT
END:VCALENDAR