BEGIN:VCALENDAR
VERSION:2.0
PRODID:-//Udruga pčelara  &quot;Matica“ - ECPv6.15.17//NONSGML v1.0//EN
CALSCALE:GREGORIAN
METHOD:PUBLISH
X-ORIGINAL-URL:https://upmatica.hr
X-WR-CALDESC:Events for Udruga pčelara  &quot;Matica“
REFRESH-INTERVAL;VALUE=DURATION:PT1H
X-Robots-Tag:noindex
X-PUBLISHED-TTL:PT1H
BEGIN:VTIMEZONE
TZID:Europe/Zagreb
BEGIN:DAYLIGHT
TZOFFSETFROM:+0100
TZOFFSETTO:+0200
TZNAME:CEST
DTSTART:20230326T010000
END:DAYLIGHT
BEGIN:STANDARD
TZOFFSETFROM:+0200
TZOFFSETTO:+0100
TZNAME:CET
DTSTART:20231029T010000
END:STANDARD
BEGIN:DAYLIGHT
TZOFFSETFROM:+0100
TZOFFSETTO:+0200
TZNAME:CEST
DTSTART:20240331T010000
END:DAYLIGHT
BEGIN:STANDARD
TZOFFSETFROM:+0200
TZOFFSETTO:+0100
TZNAME:CET
DTSTART:20241027T010000
END:STANDARD
BEGIN:DAYLIGHT
TZOFFSETFROM:+0100
TZOFFSETTO:+0200
TZNAME:CEST
DTSTART:20250330T010000
END:DAYLIGHT
BEGIN:STANDARD
TZOFFSETFROM:+0200
TZOFFSETTO:+0100
TZNAME:CET
DTSTART:20251026T010000
END:STANDARD
END:VTIMEZONE
BEGIN:VEVENT
DTSTART;TZID=Europe/Zagreb:20240307T180000
DTEND;TZID=Europe/Zagreb:20240307T190000
DTSTAMP:20260423T190245
CREATED:20240306T093044Z
LAST-MODIFIED:20240306T093044Z
UID:1591-1709834400-1709838000@upmatica.hr
SUMMARY:Redovni sastanak i predstavljanje knjige “Četrdeset godina pčelarstva”\, Josip Križ
DESCRIPTION:Poštovani pčelari \nna redovnom sastanku u četvrtak\, 07.03.20224. u 18:00 sati u Gradskoj vijećnici Sveti Ivan Zelina dugogodišnji pčelar\, g. Josip Križ\, predstavit će svoju novu knjigu  „ČETRDESET GODINA PČELARSTVA“    Pčelarska praksa\, iskustva\, radovi i savjeti. \nRadujemo se Vašem dolasku. \nUP Matica
URL:https://upmatica.hr/event/redovni-sastanak-i-predstavljanje-knjige-cetrdeset-godina-pcelarstva-josip-kriz/
LOCATION:Sastanak UP Matica (GV)\, Trg Ante Starčevića\, Gradska vijećnica\, Sv. Ivan Zelina\, 10380
ORGANIZER;CN="UP Matica":MAILTO:matica.zelina@gmail.com
END:VEVENT
END:VCALENDAR